BEGIN:VCALENDAR
VERSION:2.0
PRODID:-//Workshops For Warriors - ECPv6.15.20//NONSGML v1.0//EN
CALSCALE:GREGORIAN
METHOD:PUBLISH
X-WR-CALNAME:Workshops For Warriors
X-ORIGINAL-URL:https://wfw.org
X-WR-CALDESC:Events for Workshops For Warriors
REFRESH-INTERVAL;VALUE=DURATION:PT1H
X-Robots-Tag:noindex
X-PUBLISHED-TTL:PT1H
BEGIN:VTIMEZONE
TZID:America/Los_Angeles
BEGIN:DAYLIGHT
TZOFFSETFROM:-0800
TZOFFSETTO:-0700
TZNAME:PDT
DTSTART:20240310T100000
END:DAYLIGHT
BEGIN:STANDARD
TZOFFSETFROM:-0700
TZOFFSETTO:-0800
TZNAME:PST
DTSTART:20241103T090000
END:STANDARD
BEGIN:DAYLIGHT
TZOFFSETFROM:-0800
TZOFFSETTO:-0700
TZNAME:PDT
DTSTART:20250309T100000
END:DAYLIGHT
BEGIN:STANDARD
TZOFFSETFROM:-0700
TZOFFSETTO:-0800
TZNAME:PST
DTSTART:20251102T090000
END:STANDARD
BEGIN:DAYLIGHT
TZOFFSETFROM:-0800
TZOFFSETTO:-0700
TZNAME:PDT
DTSTART:20260308T100000
END:DAYLIGHT
BEGIN:STANDARD
TZOFFSETFROM:-0700
TZOFFSETTO:-0800
TZNAME:PST
DTSTART:20261101T090000
END:STANDARD
END:VTIMEZONE
BEGIN:VEVENT
DTSTART;TZID=America/Los_Angeles:20250801T090000
DTEND;TZID=America/Los_Angeles:20250801T150000
DTSTAMP:20260421T191609
CREATED:20250512T224840Z
LAST-MODIFIED:20250717T224737Z
UID:26593-1754038800-1754060400@wfw.org
SUMMARY:Summer 2025 Career Fair
DESCRIPTION:Held once per term\, the career fair at Workshops for Warriors offers students a unique opportunity to meet face-to-face with hiring managers\, learn about exciting job opportunities\, and network with professionals who are eager to help you succeed. Whether you’re ready to apply or exploring your options\, this career fair is your chance to make valuable connections and take the next step toward your future. Dress to impress and bring your resume!   \nTime: 9:00 AM – 3:00 PM\nLocation: Workshops for Warriors Headquarters \nEmployers\, please register here: Register Now! \nQuestions? Email Career Services. \nThis event is reserved for Workshops for Warriors students and is not open to the public.
URL:https://wfw.org/event/summer-2025-career-fair/
LOCATION:Workshops For Warriors\, 2970 Main Street\, San Diego\, CA\, 92113\, United States
CATEGORIES:Career Fairs
ATTACH;FMTTYPE=image/webp:https://wfw.org/wp-content/uploads/2025/05/Summer-Career-Fair-080125.webp
ORGANIZER;CN="Workshops For Warriors":MAILTO:info@wfw.org
END:VEVENT
BEGIN:VEVENT
DTSTART;TZID=America/Los_Angeles:20250808T123000
DTEND;TZID=America/Los_Angeles:20250808T133000
DTSTAMP:20260421T191609
CREATED:20250521T180117Z
LAST-MODIFIED:20250521T180127Z
UID:26708-1754656200-1754659800@wfw.org
SUMMARY:Employment Readiness Workshop
DESCRIPTION:Get career-ready with confidence at Workshops for Warriors! This workshop is designed to equip you with the tools and knowledge needed to excel in the job market. From understanding workplace expectations to professional etiquette\, you’ll gain practical insights to help you stand out to employers. Join us to take the next step in your journey toward a successful and fulfilling career.   \nQuestions? Email Career Services. \nThis event is reserved for Workshops for Warriors students and is not open to the public.
URL:https://wfw.org/event/employment-readiness-workshop-august-25/
LOCATION:Workshops For Warriors\, 2970 Main Street\, San Diego\, CA\, 92113\, United States
CATEGORIES:Workshop
ATTACH;FMTTYPE=image/webp:https://wfw.org/wp-content/uploads/2025/05/Employment-Readiness-August25.webp
ORGANIZER;CN="Workshops For Warriors":MAILTO:info@wfw.org
END:VEVENT
BEGIN:VEVENT
DTSTART;TZID=America/Los_Angeles:20250815T100000
DTEND;TZID=America/Los_Angeles:20250815T113000
DTSTAMP:20260421T191609
CREATED:20250709T164719Z
LAST-MODIFIED:20250722T173238Z
UID:28099-1755252000-1755257400@wfw.org
SUMMARY:Ribbon-Cutting Ceremony
DESCRIPTION:Join Us for a Special Ribbon-Cutting Celebration! \nWorkshops for Warriors and VetPowered are thrilled to invite you to the grand opening of the new Veterans Advanced Manufacturing Training and Accelerated Apprenticeship Center (VAMTAC). This 25\,000-square-foot advanced manufacturing facility marks an exciting step forward in training the next generation of skilled veterans. \n📅 Date: August 15\, 2025📍 Location: 3030 Main Street\, San Diego\, CA 92113🕙 Reception: 10:00 AM | Ribbon Cutting: 11:00 AM🎓 Graduation Ceremony: 11:30 AM \nBe part of this milestone event in the heart of Barrio Logan and help us celebrate the achievements of our students and community. \nRSVP by August 8 HERE or by emailing RSVP@wfw.org.
URL:https://wfw.org/event/ribbon-cutting-ceremony/
LOCATION:VAMTAC\, 3030 Main Street\, San Diego\, 92113\, United States
CATEGORIES:Other Events
ATTACH;FMTTYPE=image/jpeg:https://wfw.org/wp-content/uploads/2025/07/21017-VET-Front-Entrance-Rendering-1-scaled.jpg
ORGANIZER;CN="Workshops For Warriors":MAILTO:info@wfw.org
END:VEVENT
END:VCALENDAR