BEGIN:VCALENDAR
VERSION:2.0
PRODID:-//Workshops For Warriors - ECPv6.15.20//NONSGML v1.0//EN
CALSCALE:GREGORIAN
METHOD:PUBLISH
X-ORIGINAL-URL:https://wfw.org
X-WR-CALDESC:Events for Workshops For Warriors
REFRESH-INTERVAL;VALUE=DURATION:PT1H
X-Robots-Tag:noindex
X-PUBLISHED-TTL:PT1H
BEGIN:VTIMEZONE
TZID:America/Los_Angeles
BEGIN:DAYLIGHT
TZOFFSETFROM:-0800
TZOFFSETTO:-0700
TZNAME:PDT
DTSTART:20240310T100000
END:DAYLIGHT
BEGIN:STANDARD
TZOFFSETFROM:-0700
TZOFFSETTO:-0800
TZNAME:PST
DTSTART:20241103T090000
END:STANDARD
BEGIN:DAYLIGHT
TZOFFSETFROM:-0800
TZOFFSETTO:-0700
TZNAME:PDT
DTSTART:20250309T100000
END:DAYLIGHT
BEGIN:STANDARD
TZOFFSETFROM:-0700
TZOFFSETTO:-0800
TZNAME:PST
DTSTART:20251102T090000
END:STANDARD
BEGIN:DAYLIGHT
TZOFFSETFROM:-0800
TZOFFSETTO:-0700
TZNAME:PDT
DTSTART:20260308T100000
END:DAYLIGHT
BEGIN:STANDARD
TZOFFSETFROM:-0700
TZOFFSETTO:-0800
TZNAME:PST
DTSTART:20261101T090000
END:STANDARD
END:VTIMEZONE
BEGIN:VEVENT
DTSTART;TZID=America/Los_Angeles:20250711T113000
DTEND;TZID=America/Los_Angeles:20250711T123000
DTSTAMP:20260419T013607
CREATED:20250512T223722Z
LAST-MODIFIED:20250512T223727Z
UID:26578-1752233400-1752237000@wfw.org
SUMMARY:Student & Staff Lunch
DESCRIPTION:Join fellow students\, faculty\, and staff for a casual lunch in the Galley. Enjoy good food\, connect with peers\, and take a well-deserved break. \nThis event is not open to the public.
URL:https://wfw.org/event/student-staff-lunch-july-25/
LOCATION:Workshops For Warriors\, 2970 Main Street\, San Diego\, CA\, 92113\, United States
CATEGORIES:Student & Staff Lunch
ATTACH;FMTTYPE=image/webp:https://wfw.org/wp-content/uploads/2025/05/Student-Staff-Lunch-071125.webp
ORGANIZER;CN="Workshops For Warriors":MAILTO:info@wfw.org
END:VEVENT
BEGIN:VEVENT
DTSTART;TZID=America/Los_Angeles:20250718T123000
DTEND;TZID=America/Los_Angeles:20250718T133000
DTSTAMP:20260419T013607
CREATED:20250512T223915Z
LAST-MODIFIED:20250512T223921Z
UID:26582-1752841800-1752845400@wfw.org
SUMMARY:Mock Interview Workshop
DESCRIPTION:This interactive workshop gives you the chance to practice your interview skills in a supportive and realistic setting. Work with experienced professionals to refine your answers and highlight your unique strengths. Gain valuable feedback and tips to help you stand out to employers. Don’t miss this opportunity to build your confidence and take the next step toward your career goals!   \nQuestions? Email Career Services. \nThis event is reserved for Workshops for Warriors students and is not open to the public.
URL:https://wfw.org/event/mock-interview-workshop-july-2025/
LOCATION:Workshops For Warriors\, 2970 Main Street\, San Diego\, CA\, 92113\, United States
CATEGORIES:Workshop
ATTACH;FMTTYPE=image/webp:https://wfw.org/wp-content/uploads/2025/05/Mock-Interview-Workshop-071825.webp
ORGANIZER;CN="Workshops For Warriors":MAILTO:info@wfw.org
END:VEVENT
BEGIN:VEVENT
DTSTART;TZID=America/Los_Angeles:20250725T123000
DTEND;TZID=America/Los_Angeles:20250725T133000
DTSTAMP:20260419T013607
CREATED:20250512T224043Z
LAST-MODIFIED:20250512T224311Z
UID:26586-1753446600-1753450200@wfw.org
SUMMARY:Financial Literacy Workshop
DESCRIPTION:Learn the basics of budgeting\, saving\, and managing your finances as you transition into a rewarding career. This session will cover practical tips for setting financial goals\, understanding credit\, and planning for long-term stability. Whether you’re just starting out or looking to sharpen your skills\, this workshop will give you the tools and knowledge to make informed financial decisions and build a solid foundation for success.   \nQuestions? Email Career Services. \nThis event is reserved for Workshops for Warriors students and is not open to the public.
URL:https://wfw.org/event/financial-literacy-workshop-july-2025/
LOCATION:Workshops For Warriors\, 2970 Main Street\, San Diego\, CA\, 92113\, United States
CATEGORIES:Workshop
ATTACH;FMTTYPE=image/webp:https://wfw.org/wp-content/uploads/2025/05/Financial-Literacy-Workshop-072525.webp
ORGANIZER;CN="Workshops For Warriors":MAILTO:info@wfw.org
END:VEVENT
END:VCALENDAR