BEGIN:VCALENDAR
VERSION:2.0
PRODID:-//Workshops For Warriors - ECPv6.15.20//NONSGML v1.0//EN
CALSCALE:GREGORIAN
METHOD:PUBLISH
X-WR-CALNAME:Workshops For Warriors
X-ORIGINAL-URL:https://wfw.org
X-WR-CALDESC:Events for Workshops For Warriors
REFRESH-INTERVAL;VALUE=DURATION:PT1H
X-Robots-Tag:noindex
X-PUBLISHED-TTL:PT1H
BEGIN:VTIMEZONE
TZID:America/Los_Angeles
BEGIN:DAYLIGHT
TZOFFSETFROM:-0800
TZOFFSETTO:-0700
TZNAME:PDT
DTSTART:20220313T100000
END:DAYLIGHT
BEGIN:STANDARD
TZOFFSETFROM:-0700
TZOFFSETTO:-0800
TZNAME:PST
DTSTART:20221106T090000
END:STANDARD
BEGIN:DAYLIGHT
TZOFFSETFROM:-0800
TZOFFSETTO:-0700
TZNAME:PDT
DTSTART:20230312T100000
END:DAYLIGHT
BEGIN:STANDARD
TZOFFSETFROM:-0700
TZOFFSETTO:-0800
TZNAME:PST
DTSTART:20231105T090000
END:STANDARD
BEGIN:DAYLIGHT
TZOFFSETFROM:-0800
TZOFFSETTO:-0700
TZNAME:PDT
DTSTART:20240310T100000
END:DAYLIGHT
BEGIN:STANDARD
TZOFFSETFROM:-0700
TZOFFSETTO:-0800
TZNAME:PST
DTSTART:20241103T090000
END:STANDARD
BEGIN:DAYLIGHT
TZOFFSETFROM:-0800
TZOFFSETTO:-0700
TZNAME:PDT
DTSTART:20250309T100000
END:DAYLIGHT
BEGIN:STANDARD
TZOFFSETFROM:-0700
TZOFFSETTO:-0800
TZNAME:PST
DTSTART:20251102T090000
END:STANDARD
BEGIN:DAYLIGHT
TZOFFSETFROM:-0800
TZOFFSETTO:-0700
TZNAME:PDT
DTSTART:20260308T100000
END:DAYLIGHT
BEGIN:STANDARD
TZOFFSETFROM:-0700
TZOFFSETTO:-0800
TZNAME:PST
DTSTART:20261101T090000
END:STANDARD
END:VTIMEZONE
BEGIN:VEVENT
DTSTART;TZID=America/Los_Angeles:20251219T120000
DTEND;TZID=America/Los_Angeles:20251219T133000
DTSTAMP:20260423T090153
CREATED:20250826T202613Z
LAST-MODIFIED:20251125T004624Z
UID:28319-1766145600-1766151000@wfw.org
SUMMARY:Fall 2025 Graduation
DESCRIPTION:Save the date to join us at our San Diego headquarters to celebrate our Fall 2025 Graduates. \nAll family and friends are invited to attend. Luncheon to follow the ceremony. \nEvent Details: \nDate: Friday\, December 19 \nTime: 11:30 a.m. – Please arrive early as the ceremony will begin promptly at 11:30 a.m. \nAddress: 2970 Main Street\, San Diego\, CA \nRegister
URL:https://wfw.org/event/fall-2025-graduation/
LOCATION:Workshops For Warriors\, 2970 Main Street\, San Diego\, CA\, 92113\, United States
CATEGORIES:Graduation Celebrations
ATTACH;FMTTYPE=image/webp:https://wfw.org/wp-content/uploads/2025/08/Workshops-8.webp
ORGANIZER;CN="Workshops For Warriors":MAILTO:info@wfw.org
END:VEVENT
BEGIN:VEVENT
DTSTART;TZID=America/Los_Angeles:20250418T120000
DTEND;TZID=America/Los_Angeles:20250418T133000
DTSTAMP:20260423T090153
CREATED:20250402T235555Z
LAST-MODIFIED:20250403T000623Z
UID:26026-1744977600-1744983000@wfw.org
SUMMARY:Spring 2025 Graduation
DESCRIPTION:Save the date to join us at our San Diego headquarters to celebrate our Spring 2025 Graduates. \nAll family and friends are invited to attend. Luncheon to follow ceremony. \nEvent Details: \nDate: Friday\, April 18 \nTime: 12:00 p.m. – Please arrive early as the ceremony will begin promptly at 12:00 p.m. \nAddress: 2970 Main Street\, San Diego\, CA \nRegister
URL:https://wfw.org/event/spring-2025-graduation/
LOCATION:Workshops For Warriors\, 2970 Main Street\, San Diego\, CA\, 92113\, United States
CATEGORIES:Graduation Celebrations
ATTACH;FMTTYPE=image/webp:https://wfw.org/wp-content/uploads/2025/04/Copy-of-Graduation-Template-Linkedin-1200-×-644-px-6.webp
ORGANIZER;CN="Workshops For Warriors":MAILTO:info@wfw.org
END:VEVENT
BEGIN:VEVENT
DTSTART;TZID=America/Los_Angeles:20241213T120000
DTEND;TZID=America/Los_Angeles:20241213T133000
DTSTAMP:20260423T090153
CREATED:20240219T163816Z
LAST-MODIFIED:20250106T223819Z
UID:22862-1734091200-1734096600@wfw.org
SUMMARY:Fall 2024 Graduation
DESCRIPTION:Save the date to join us at our San Diego headquarters to celebrate our Fall 2024 Graduates. More details to come. \nAll family and friends are invited to attend. Luncheon to follow ceremony. \nRegister
URL:https://wfw.org/event/fall-2024-graduation/
LOCATION:Workshops For Warriors\, 2970 Main Street\, San Diego\, CA\, 92113\, United States
CATEGORIES:Graduation Celebrations
ATTACH;FMTTYPE=image/webp:https://wfw.org/wp-content/uploads/2024/02/Copy-of-Graduation-Template-Linkedin-1200-×-644-px-1.webp
ORGANIZER;CN="Workshops For Warriors":MAILTO:info@wfw.org
END:VEVENT
BEGIN:VEVENT
DTSTART;TZID=America/Los_Angeles:20240816T120000
DTEND;TZID=America/Los_Angeles:20240816T133000
DTSTAMP:20260423T090153
CREATED:20240202T213423Z
LAST-MODIFIED:20240821T165455Z
UID:22596-1723809600-1723815000@wfw.org
SUMMARY:Summer 2024 Graduation
DESCRIPTION:Save the date to join us at our San Diego headquarters to celebrate our Summer 2024 Graduates on Friday\, August 16. More details to come. \nAll family and friends are invited to attend. Luncheon to follow ceremony. \nContact
URL:https://wfw.org/event/summer-2024-graduation/
LOCATION:Workshops For Warriors\, 2970 Main Street\, San Diego\, CA\, 92113\, United States
CATEGORIES:Graduation Celebrations,School Schedule
ATTACH;FMTTYPE=image/webp:https://wfw.org/wp-content/uploads/2024/02/FALL-2022-Graduation-1.webp
ORGANIZER;CN="Workshops For Warriors":MAILTO:info@wfw.org
END:VEVENT
BEGIN:VEVENT
DTSTART;TZID=America/Los_Angeles:20240418T120000
DTEND;TZID=America/Los_Angeles:20240418T120000
DTSTAMP:20260423T090153
CREATED:20240202T213214Z
LAST-MODIFIED:20240730T150654Z
UID:22861-1713441600-1713441600@wfw.org
SUMMARY:Spring 2024 Graduation
DESCRIPTION:Save the date to join us at our San Diego headquarters to celebrate our Spring 2024 Graduates. More details to come. \nAll family and friends are invited to attend. Luncheon to follow ceremony.
URL:https://wfw.org/event/spring-2024-graduation/
LOCATION:Workshops For Warriors\, 2970 Main Street\, San Diego\, CA\, 92113\, United States
CATEGORIES:Graduation Celebrations,School Schedule
ATTACH;FMTTYPE=image/webp:https://wfw.org/wp-content/uploads/2024/03/Copy-of-Graduation-Template-Linkedin-1200-×-644-px-1.webp
ORGANIZER;CN="Workshops For Warriors":MAILTO:info@wfw.org
END:VEVENT
BEGIN:VEVENT
DTSTART;TZID=America/Los_Angeles:20231215T120000
DTEND;TZID=America/Los_Angeles:20231215T133000
DTSTAMP:20260423T090153
CREATED:20230107T061927Z
LAST-MODIFIED:20240730T151102Z
UID:16542-1702641600-1702647000@wfw.org
SUMMARY:Fall 2023 Graduation
DESCRIPTION:Save the date to join us at our San Diego headquarters to celebrate our Fall 2023 Graduates. More details to come. \nAll family and friends are invited to attend. Luncheon to follow ceremony.
URL:https://wfw.org/event/fall-2023-graduation/
LOCATION:CA
CATEGORIES:Graduation Celebrations,School Schedule
ATTACH;FMTTYPE=image/webp:https://wfw.org/wp-content/uploads/2023/01/Workshops-for-Warriors-Fall-2023-Graduation.webp
END:VEVENT
BEGIN:VEVENT
DTSTART;TZID=America/Los_Angeles:20230818T120000
DTEND;TZID=America/Los_Angeles:20230818T133000
DTSTAMP:20260423T090153
CREATED:20230107T061719Z
LAST-MODIFIED:20240730T152129Z
UID:16531-1692360000-1692365400@wfw.org
SUMMARY:Summer 2023 Graduation
DESCRIPTION:Save the date to join us at our San Diego headquarters to celebrate our Summer 2023 Graduates on Friday\, August 18. More details to come. \nAll family and friends are invited to attend. Luncheon to follow ceremony. \nRSVP
URL:https://wfw.org/event/summer-2023-graduation/
LOCATION:Workshops For Warriors\, 2970 Main Street\, San Diego\, CA\, 92113\, United States
CATEGORIES:Graduation Celebrations,School Schedule
ATTACH;FMTTYPE=image/webp:https://wfw.org/wp-content/uploads/2023/01/Workshops-for-Warriors-Summer-2023-Graduation.webp
ORGANIZER;CN="Workshops For Warriors":MAILTO:info@wfw.org
END:VEVENT
BEGIN:VEVENT
DTSTART;TZID=America/Los_Angeles:20230420T120000
DTEND;TZID=America/Los_Angeles:20230420T130000
DTSTAMP:20260423T090153
CREATED:20220910T052041Z
LAST-MODIFIED:20240730T161854Z
UID:16085-1681992000-1681995600@wfw.org
SUMMARY:Spring 2023 Graduation
DESCRIPTION:Save the date to join us at our San Diego headquarters to celebrate our Spring 2023 Graduates. Thursday\, April 20 from 12 p.m. to 1 p.m. PST. Click the button below to RSVP. \nAll family and friends are invited to attend. Luncheon to follow ceremony.
URL:https://wfw.org/event/spring-2023-graduation/
LOCATION:Workshops For Warriors\, 2970 Main Street\, San Diego\, CA\, 92113\, United States
CATEGORIES:Graduation Celebrations,School Schedule
ATTACH;FMTTYPE=image/webp:https://wfw.org/wp-content/uploads/2022/09/Spring-2023-Graduation-.webp
ORGANIZER;CN="Workshops For Warriors":MAILTO:info@wfw.org
END:VEVENT
END:VCALENDAR