BEGIN:VCALENDAR
VERSION:2.0
PRODID:-//Workshops For Warriors - ECPv6.15.20//NONSGML v1.0//EN
CALSCALE:GREGORIAN
METHOD:PUBLISH
X-ORIGINAL-URL:https://wfw.org
X-WR-CALDESC:Events for Workshops For Warriors
REFRESH-INTERVAL;VALUE=DURATION:PT1H
X-Robots-Tag:noindex
X-PUBLISHED-TTL:PT1H
BEGIN:VTIMEZONE
TZID:America/Los_Angeles
BEGIN:DAYLIGHT
TZOFFSETFROM:-0800
TZOFFSETTO:-0700
TZNAME:PDT
DTSTART:20240310T100000
END:DAYLIGHT
BEGIN:STANDARD
TZOFFSETFROM:-0700
TZOFFSETTO:-0800
TZNAME:PST
DTSTART:20241103T090000
END:STANDARD
BEGIN:DAYLIGHT
TZOFFSETFROM:-0800
TZOFFSETTO:-0700
TZNAME:PDT
DTSTART:20250309T100000
END:DAYLIGHT
BEGIN:STANDARD
TZOFFSETFROM:-0700
TZOFFSETTO:-0800
TZNAME:PST
DTSTART:20251102T090000
END:STANDARD
BEGIN:DAYLIGHT
TZOFFSETFROM:-0800
TZOFFSETTO:-0700
TZNAME:PDT
DTSTART:20260308T100000
END:DAYLIGHT
BEGIN:STANDARD
TZOFFSETFROM:-0700
TZOFFSETTO:-0800
TZNAME:PST
DTSTART:20261101T090000
END:STANDARD
END:VTIMEZONE
BEGIN:VEVENT
DTSTART;TZID=America/Los_Angeles:20250321T110000
DTEND;TZID=America/Los_Angeles:20250321T140000
DTSTAMP:20260421T072729
CREATED:20250226T163226Z
LAST-MODIFIED:20250227T035839Z
UID:25276-1742554800-1742565600@wfw.org
SUMMARY:Employer Career Fair
DESCRIPTION:Join us for our employer hiring event featuring interviews with veterans and transitioning service members who will soon be graduating with nationally-recognized machining and welding credentials. \nProspective employers: Please note that job descriptions must be submitted at time of registration. \n*Employers must be willing to hire for full-time positions at a minimum of $18/hour. \nSign up today!
URL:https://wfw.org/event/employer-career-fair/
LOCATION:Workshops For Warriors\, 2970 Main Street\, San Diego\, CA\, 92113\, United States
CATEGORIES:Career Fairs
ATTACH;FMTTYPE=image/webp:https://wfw.org/wp-content/uploads/2025/02/Workshops-for-Warriors-Career-Fair.webp
ORGANIZER;CN="Workshops For Warriors":MAILTO:info@wfw.org
END:VEVENT
END:VCALENDAR